BEGIN:VCALENDAR
VERSION:2.0
PRODID:-//Discover Fort Lauderdale Beach - ECPv6.15.18//NONSGML v1.0//EN
CALSCALE:GREGORIAN
METHOD:PUBLISH
X-ORIGINAL-URL:https://discoverftlbeach.com
X-WR-CALDESC:Events for Discover Fort Lauderdale Beach
REFRESH-INTERVAL;VALUE=DURATION:PT1H
X-Robots-Tag:noindex
X-PUBLISHED-TTL:PT1H
BEGIN:VTIMEZONE
TZID:America/New_York
BEGIN:DAYLIGHT
TZOFFSETFROM:-0500
TZOFFSETTO:-0400
TZNAME:EDT
DTSTART:20250309T070000
END:DAYLIGHT
BEGIN:STANDARD
TZOFFSETFROM:-0400
TZOFFSETTO:-0500
TZNAME:EST
DTSTART:20251102T060000
END:STANDARD
BEGIN:DAYLIGHT
TZOFFSETFROM:-0500
TZOFFSETTO:-0400
TZNAME:EDT
DTSTART:20260308T070000
END:DAYLIGHT
BEGIN:STANDARD
TZOFFSETFROM:-0400
TZOFFSETTO:-0500
TZNAME:EST
DTSTART:20261101T060000
END:STANDARD
BEGIN:DAYLIGHT
TZOFFSETFROM:-0500
TZOFFSETTO:-0400
TZNAME:EDT
DTSTART:20270314T070000
END:DAYLIGHT
BEGIN:STANDARD
TZOFFSETFROM:-0400
TZOFFSETTO:-0500
TZNAME:EST
DTSTART:20271107T060000
END:STANDARD
END:VTIMEZONE
BEGIN:VEVENT
DTSTART;TZID=America/New_York:20260711T110000
DTEND;TZID=America/New_York:20260711T160000
DTSTAMP:20260421T200641
CREATED:20260413T211906Z
LAST-MODIFIED:20260413T211906Z
UID:10003607-1783767600-1783785600@discoverftlbeach.com
SUMMARY:Flock Fest 2026
DESCRIPTION:Mark your calendars and join us from July 11\, 2026\, as we celebrate FlockFest Events’ 11th anniversary at their annual Beach Party!  \nSince its founding\, FlockFest has blossomed into a cherished tradition\, bringing the community together for unforgettable experiences that celebrate fun\, inclusivity\, and philanthropy. This 11-year celebration promises to be bigger and better\, with exhilarating activities\, electrifying entertainment\, and meaningful opportunities to connect with familiar faces and new friends. \nInternationally acclaimed DJ Jace M will headline this year’s beach party\, and his high-energy beats will make this celebration unforgettable.
URL:https://discoverftlbeach.com/event/flock-fest-2026/
LOCATION:Fort Lauderdale Beach\, 1100 Seabreeze Blvd\, Fort Lauderdale\, FL\, 33316\, United States
CATEGORIES:Food & Drink,LGBTQ,Live Music,Outdoors
ATTACH;FMTTYPE=image/png:https://discoverftlbeach.com/wp-content/uploads/2026/04/Flock-Fest-2026.png
END:VEVENT
END:VCALENDAR