BEGIN:VCALENDAR
VERSION:2.0
PRODID:-//Discover Fort Lauderdale Beach - ECPv6.15.18//NONSGML v1.0//EN
CALSCALE:GREGORIAN
METHOD:PUBLISH
X-WR-CALNAME:Discover Fort Lauderdale Beach
X-ORIGINAL-URL:https://discoverftlbeach.com
X-WR-CALDESC:Events for Discover Fort Lauderdale Beach
REFRESH-INTERVAL;VALUE=DURATION:PT1H
X-Robots-Tag:noindex
X-PUBLISHED-TTL:PT1H
BEGIN:VTIMEZONE
TZID:America/New_York
BEGIN:DAYLIGHT
TZOFFSETFROM:-0500
TZOFFSETTO:-0400
TZNAME:EDT
DTSTART:20250309T070000
END:DAYLIGHT
BEGIN:STANDARD
TZOFFSETFROM:-0400
TZOFFSETTO:-0500
TZNAME:EST
DTSTART:20251102T060000
END:STANDARD
BEGIN:DAYLIGHT
TZOFFSETFROM:-0500
TZOFFSETTO:-0400
TZNAME:EDT
DTSTART:20260308T070000
END:DAYLIGHT
BEGIN:STANDARD
TZOFFSETFROM:-0400
TZOFFSETTO:-0500
TZNAME:EST
DTSTART:20261101T060000
END:STANDARD
BEGIN:DAYLIGHT
TZOFFSETFROM:-0500
TZOFFSETTO:-0400
TZNAME:EDT
DTSTART:20270314T070000
END:DAYLIGHT
BEGIN:STANDARD
TZOFFSETFROM:-0400
TZOFFSETTO:-0500
TZNAME:EST
DTSTART:20271107T060000
END:STANDARD
END:VTIMEZONE
BEGIN:VEVENT
DTSTART;TZID=America/New_York:20260130T190000
DTEND;TZID=America/New_York:20260130T213000
DTSTAMP:20260421T170231
CREATED:20260129T140718Z
LAST-MODIFIED:20260129T140718Z
UID:10003473-1769799600-1769808600@discoverftlbeach.com
SUMMARY:Friday Night Sound Waves 10yr Anniversary Series: Ginetta's Vendetta
DESCRIPTION:Celebrating ten years in 2026\, Friday Night Sound Waves continues a simple belief: good music brings people together.\nOur anniversary season honors the artists and moments that have shaped the series since day one. \nSound Waves alumni Ginetta’s Vendetta opens the 10-Year Anniversary season with an electrifying night of jazz led by internationally acclaimed trumpeter\, vocalist\, and bandleader Ginetta Vendetta. A true jazz ambassador\, Ginetta brings a fearless\, groove-forward sound rooted in tradition yet alive with personality\, joy\, and unmistakable presence. \nFor this opening night\, Ginetta’s Vendetta features a stellar ensemble: Charlie Arbelaz on saxophone\, Gianni Bianchini on piano\, Alejandro Gonzalez on drums\, and Josh Ewers on bass—musicians who listen\, respond\, and elevate the moment together\, exactly the way Sound Waves nights are meant to unfold.
URL:https://discoverftlbeach.com/event/friday-night-sound-waves-10yr-anniversary-series-ginettas-vendetta/
LOCATION:Las Olas Oceanside Park\, 3000 E. Las Olas Boulevard\, Fort Lauderdale\, 33316\, United States
CATEGORIES:Art & Culture,Family Friendly,Food & Drink,Live Music,Outdoors
ATTACH;FMTTYPE=image/jpeg:https://discoverftlbeach.com/wp-content/uploads/2026/01/03.31.26-ginettas-vendetta.jpg
END:VEVENT
BEGIN:VEVENT
DTSTART;TZID=America/New_York:20260124T120000
DTEND;TZID=America/New_York:20260125T020000
DTSTAMP:20260421T170231
CREATED:20251215T222335Z
LAST-MODIFIED:20251215T222335Z
UID:10003459-1769256000-1769306400@discoverftlbeach.com
SUMMARY:The Shorely 1 Year Anniversary with Marc Kinchen
DESCRIPTION:Cheers To One Year!\n\n\n\n1 Year Anniversay Featuring MK\nSaturday\, January 24th | DOORS OPEN AT 12PM \nPlease note that entry will be on a first-come\, first-served basis\, and table reservations are highly encouraged\, as they are the only way to guarantee access to the event. RSVPs alone do not secure entry onto The Shorely. \n*Please Note That This RSVP Does NOT Mark Any Kind Of Reservation: \nFOR ALL TABLE RESERVASTIONS & BOTTLE SPECIALS\, PLEASE CALL/TEXT: (954) 991-1729 or click here to book your table online. \n21+ EVENT \nThe Shorely At Marina Village \n849 Seabreeze Boulevard Fort Lauderdale\, FL 33316
URL:https://discoverftlbeach.com/event/the-shorely-1-year-anniversary-with-marc-kinchen/
LOCATION:The Shorely\, 849 Seabreeze Blvd\, Fort Lauderdale\, FL\, 33316\, United States
CATEGORIES:Food & Drink,Live Music,Outdoors
ATTACH;FMTTYPE=image/jpeg:https://discoverftlbeach.com/wp-content/uploads/2025/12/https-cdn.evbuc_.com-images-1172524591-2046037361613-1-original.20251208-143743.jpeg
END:VEVENT
BEGIN:VEVENT
DTSTART;VALUE=DATE:20260119
DTEND;VALUE=DATE:20260126
DTSTAMP:20260421T170231
CREATED:20250922T210424Z
LAST-MODIFIED:20250922T210424Z
UID:10003401-1768780800-1769385599@discoverftlbeach.com
SUMMARY:Visit Lauderdale Food & Wine Festival
DESCRIPTION:The 7th annual Visit Lauderdale Food & Wine Festival returns January 19-25\, 2026! \nVLFWF is the premier culinary event in Broward County\, featuring activations throughout the year and culminating with a week long celebration. The festival showcases Broward County’s renowned and emerging chefs\, restaurateurs and local food & beverage establishments – offering attendees an eclectic\, international variety of cuisines and beverages to savor and enjoy. A portion of all proceeds from the Visit Lauderdale Food & Wine Festival will benefit Joe DiMaggio Children’s Hospital. \nStart your 2026 off with a trip to sunny Fort Lauderdale Beach and stay near all the foodie action – act now and lock in your trip today!
URL:https://discoverftlbeach.com/event/visit-lauderdale-food-wine-festival-2/
LOCATION:Fort Lauderdale Beach\, 1100 Seabreeze Blvd\, Fort Lauderdale\, FL\, 33316\, United States
CATEGORIES:Art & Culture,Family Friendly,Food & Drink,Outdoors
ATTACH;FMTTYPE=image/jpeg:https://discoverftlbeach.com/wp-content/uploads/2025/09/VLFWF2026-Artwork-with-Talent_1450-x-725-Web-Banner.jpeg
END:VEVENT
END:VCALENDAR