BEGIN:VCALENDAR
VERSION:2.0
PRODID:-//Discover Fort Lauderdale Beach - ECPv6.15.18//NONSGML v1.0//EN
CALSCALE:GREGORIAN
METHOD:PUBLISH
X-WR-CALNAME:Discover Fort Lauderdale Beach
X-ORIGINAL-URL:https://discoverftlbeach.com
X-WR-CALDESC:Events for Discover Fort Lauderdale Beach
REFRESH-INTERVAL;VALUE=DURATION:PT1H
X-Robots-Tag:noindex
X-PUBLISHED-TTL:PT1H
BEGIN:VTIMEZONE
TZID:America/New_York
BEGIN:DAYLIGHT
TZOFFSETFROM:-0500
TZOFFSETTO:-0400
TZNAME:EDT
DTSTART:20250309T070000
END:DAYLIGHT
BEGIN:STANDARD
TZOFFSETFROM:-0400
TZOFFSETTO:-0500
TZNAME:EST
DTSTART:20251102T060000
END:STANDARD
BEGIN:DAYLIGHT
TZOFFSETFROM:-0500
TZOFFSETTO:-0400
TZNAME:EDT
DTSTART:20260308T070000
END:DAYLIGHT
BEGIN:STANDARD
TZOFFSETFROM:-0400
TZOFFSETTO:-0500
TZNAME:EST
DTSTART:20261101T060000
END:STANDARD
BEGIN:DAYLIGHT
TZOFFSETFROM:-0500
TZOFFSETTO:-0400
TZNAME:EDT
DTSTART:20270314T070000
END:DAYLIGHT
BEGIN:STANDARD
TZOFFSETFROM:-0400
TZOFFSETTO:-0500
TZNAME:EST
DTSTART:20271107T060000
END:STANDARD
END:VTIMEZONE
BEGIN:VEVENT
DTSTART;TZID=America/New_York:20260301T100000
DTEND;TZID=America/New_York:20260301T170000
DTSTAMP:20260421T214636
CREATED:20260203T193154Z
LAST-MODIFIED:20260203T193154Z
UID:10003537-1772359200-1772384400@discoverftlbeach.com
SUMMARY:The MKT at The Loop
DESCRIPTION:The MKT at Las Olas Oceanside Park takes place every Sunday\, 10 am – 5 pm \nTake in breathtaking views and ocean breezes while perusing an eclectic array of homemade & handmade fare ranging from fresh produce and fruit to global flavors\, made-to-order foods\, and unique items to wear and decorate your home. \nParking: Las Olas Beach Garage\, 200 Las Olas Circle \nLocal Vendor Marketplace Rotates Weekly.\nVisit our Facebook Page for the weekly list
URL:https://discoverftlbeach.com/event/the-mkt-at-the-loop-2/2026-03-01/
LOCATION:Las Olas Oceanside Park\, 3000 E. Las Olas Boulevard\, Fort Lauderdale\, 33316\, United States
CATEGORIES:Art & Culture,Family Friendly,Food & Drink,Outdoors
ATTACH;FMTTYPE=image/jpeg:https://discoverftlbeach.com/wp-content/uploads/2026/02/weekend-loop-mkts.jpg
END:VEVENT
BEGIN:VEVENT
DTSTART;TZID=America/New_York:20260228T090000
DTEND;TZID=America/New_York:20260228T170000
DTSTAMP:20260421T214636
CREATED:20260203T192654Z
LAST-MODIFIED:20260203T192654Z
UID:10003490-1772269200-1772298000@discoverftlbeach.com
SUMMARY:The MKT at The LOOP
DESCRIPTION:The MKT at Las Olas Oceanside Park takes place every Saturday\, 9:00 a.m. – 5:00 p.m.\nYoga on the Lawn with Lisa\, every Saturday at 9:30 a.m.\, November through June \nTake in breathtaking views and ocean breezes while perusing an eclectic array of homemade & handmade fare ranging from fresh produce and fruit to global flavors\, made-to-order foods\, and unique items to wear and decorate your home. \nParking: Las Olas Beach Garage\, 200 Las Olas Circle \nLocal Vendor Marketplace Rotates Weekly | Visit Facebook for more
URL:https://discoverftlbeach.com/event/the-mkt-at-the-loop/2026-02-28/
LOCATION:Las Olas Oceanside Park\, 3000 E. Las Olas Boulevard\, Fort Lauderdale\, 33316\, United States
CATEGORIES:Art & Culture,Family Friendly,Food & Drink,Outdoors,Pet Friendly
ATTACH;FMTTYPE=image/jpeg:https://discoverftlbeach.com/wp-content/uploads/2026/02/Pumpkins-Palm-Trees-1.jpg
END:VEVENT
BEGIN:VEVENT
DTSTART;TZID=America/New_York:20260227T190000
DTEND;TZID=America/New_York:20260227T213000
DTSTAMP:20260421T214636
CREATED:20260129T214314Z
LAST-MODIFIED:20260129T214314Z
UID:10003477-1772218800-1772227800@discoverftlbeach.com
SUMMARY:Friday Night Sound Waves 10yr Anniversary Series: Shane Duncan Band
DESCRIPTION:Across multiple seasons\, the Shane Duncan Band has brought not one\, but two distinct band concepts to our stage\, each delivering a different experience while sharing the same foundation of musicianship\, versatility\, and crowd connection. \nUnder the Shane Duncan Band (S.D.B.) name\, the sound leans country-forward—high-energy\, danceable\, and built for sing-alongs. As All Access\, the band expands into a full-spectrum experience\, moving seamlessly through Top 40\, pop\, rock\, disco\, dance\, country\, and a touch of Latin. In the early seasons (2017–2019)\, Sound Waves audiences experienced both concepts in the same year—an unmatched run that cemented their place in the series’ foundation. \nWhat never changes is how they show up. No backing tracks. No shortcuts. Every note is live. Led by Shane Duncan alongside Tiffany Rosario\, Dave Scully\, Bryce Kretz\, and Motley Rodriguez\, the band brings chemistry\, versatility\, and trust on stage—qualities that have made them the go-to act for Sound Waves’ biggest and most complex nights.
URL:https://discoverftlbeach.com/event/friday-night-sound-waves-10yr-anniversary-series-shane-duncan-band/
LOCATION:Las Olas Oceanside Park\, 3000 E. Las Olas Boulevard\, Fort Lauderdale\, 33316\, United States
CATEGORIES:Art & Culture,Family Friendly,Live Music,Outdoors
ATTACH;FMTTYPE=image/jpeg:https://discoverftlbeach.com/wp-content/uploads/2026/01/02.27.26-shane-duncan-band.jpg
END:VEVENT
BEGIN:VEVENT
DTSTART;TZID=America/New_York:20260222T100000
DTEND;TZID=America/New_York:20260222T170000
DTSTAMP:20260421T214636
CREATED:20260203T193154Z
LAST-MODIFIED:20260203T193154Z
UID:10003536-1771754400-1771779600@discoverftlbeach.com
SUMMARY:The MKT at The Loop
DESCRIPTION:The MKT at Las Olas Oceanside Park takes place every Sunday\, 10 am – 5 pm \nTake in breathtaking views and ocean breezes while perusing an eclectic array of homemade & handmade fare ranging from fresh produce and fruit to global flavors\, made-to-order foods\, and unique items to wear and decorate your home. \nParking: Las Olas Beach Garage\, 200 Las Olas Circle \nLocal Vendor Marketplace Rotates Weekly.\nVisit our Facebook Page for the weekly list
URL:https://discoverftlbeach.com/event/the-mkt-at-the-loop-2/2026-02-22/
LOCATION:Las Olas Oceanside Park\, 3000 E. Las Olas Boulevard\, Fort Lauderdale\, 33316\, United States
CATEGORIES:Art & Culture,Family Friendly,Food & Drink,Outdoors
ATTACH;FMTTYPE=image/jpeg:https://discoverftlbeach.com/wp-content/uploads/2026/02/weekend-loop-mkts.jpg
END:VEVENT
BEGIN:VEVENT
DTSTART;TZID=America/New_York:20260222T100000
DTEND;TZID=America/New_York:20260222T140000
DTSTAMP:20260421T214636
CREATED:20260109T172038Z
LAST-MODIFIED:20260109T172038Z
UID:10003472-1771754400-1771768800@discoverftlbeach.com
SUMMARY:DogOpoly: Fur The Love Pet Fest 2026
DESCRIPTION:Get ready to roll the dice and celebrate the love we share with our four-legged friends at the 6th Annual Fur The Love Pet Fest — 2025 Winner( again!) in Fort Lauderdale Magazine’s Readers Poll for Best Event. \nThis year\, we’re turning the park into a playful\, larger-than-life game board with our all-new theme: DOG-OPOLY — where paws\, play\, and community take center stage. Expect a day filled with tail-wagging fun\, interactive experiences\, shopping\, treats\, photo moments\, and surprises around every corner. \nHosted by beloved local duo Ana & Teddy of Tour with Teddy\, this free\, family-friendly event brings together pet lovers\, local businesses\, and the community for a joyful celebration of connection\, creativity\, and canine companionship — all in honor of National Love Your Pet Day. \nWant to Get Involved?  \nVendors and sponsors are invited to claim their spot on the board! Opportunities are available for businesses looking to connect with an engaged\, pet-loving audience in a fun and meaningful way. Sign Up Here! \nTickets coming soon!
URL:https://discoverftlbeach.com/event/dogopoly-fur-the-love-pet-fest-2026/
LOCATION:Las Olas Oceanside Park\, 3000 E. Las Olas Boulevard\, Fort Lauderdale\, 33316\, United States
CATEGORIES:Family Friendly,Outdoors,Pet Friendly
ATTACH;FMTTYPE=image/jpeg:https://discoverftlbeach.com/wp-content/uploads/2026/01/FTL-Pet-Fest-2026-DogOpoly.jpg
END:VEVENT
BEGIN:VEVENT
DTSTART;TZID=America/New_York:20260221T090000
DTEND;TZID=America/New_York:20260221T170000
DTSTAMP:20260421T214636
CREATED:20260203T192654Z
LAST-MODIFIED:20260203T192654Z
UID:10003489-1771664400-1771693200@discoverftlbeach.com
SUMMARY:The MKT at The LOOP
DESCRIPTION:The MKT at Las Olas Oceanside Park takes place every Saturday\, 9:00 a.m. – 5:00 p.m.\nYoga on the Lawn with Lisa\, every Saturday at 9:30 a.m.\, November through June \nTake in breathtaking views and ocean breezes while perusing an eclectic array of homemade & handmade fare ranging from fresh produce and fruit to global flavors\, made-to-order foods\, and unique items to wear and decorate your home. \nParking: Las Olas Beach Garage\, 200 Las Olas Circle \nLocal Vendor Marketplace Rotates Weekly | Visit Facebook for more
URL:https://discoverftlbeach.com/event/the-mkt-at-the-loop/2026-02-21/
LOCATION:Las Olas Oceanside Park\, 3000 E. Las Olas Boulevard\, Fort Lauderdale\, 33316\, United States
CATEGORIES:Art & Culture,Family Friendly,Food & Drink,Outdoors,Pet Friendly
ATTACH;FMTTYPE=image/jpeg:https://discoverftlbeach.com/wp-content/uploads/2026/02/Pumpkins-Palm-Trees-1.jpg
END:VEVENT
BEGIN:VEVENT
DTSTART;TZID=America/New_York:20260220T190000
DTEND;TZID=America/New_York:20260220T213000
DTSTAMP:20260421T214636
CREATED:20260129T205234Z
LAST-MODIFIED:20260129T205305Z
UID:10003476-1771614000-1771623000@discoverftlbeach.com
SUMMARY:Friday Night Sound Waves 10yr Anniversary Series: The Goodnicks
DESCRIPTION:If there’s one band synonymous with “it’s always a great night\,” it’s The Goodnicks. With seven Sound Waves appearances to their name\, they are among the most frequently featured bands in the series’ history\, and every return feels just as fresh as the first. \nKnown for rich three-part harmonies and an expansive catalog spanning the ’70s through today\, The Goodnicks effortlessly blend pop\, rock\, country\, dance favorites\, and original music into a show that’s high-energy\, crowd-driven\, and genuinely fun. Fronted by songwriter and vocalist Derek J. Laber\, the band is anchored by musical director and keyboardist Jamie Armanini\, with layered guitar textures from Ric Foss\, rock-solid rhythm from bassist Tom Souvent\, and powerhouse percussion from drummer Brian Chilluffo. \nWhen invited back this season\, the band shared they were on hiatus while Tom spent a year in Paris with his family.\nThe response was simple: what if we flew him back? We are! Because some bands (and some nights) are worth it.
URL:https://discoverftlbeach.com/event/friday-night-sound-waves-10yr-anniversary-series-the-goodnicks/
LOCATION:Las Olas Oceanside Park\, 3000 E. Las Olas Boulevard\, Fort Lauderdale\, 33316\, United States
CATEGORIES:Art & Culture,Family Friendly,Live Music,Outdoors
ATTACH;FMTTYPE=image/jpeg:https://discoverftlbeach.com/wp-content/uploads/2026/01/2.2.26-the-goodnicks.jpg
END:VEVENT
BEGIN:VEVENT
DTSTART;TZID=America/New_York:20260215T100000
DTEND;TZID=America/New_York:20260215T170000
DTSTAMP:20260421T214636
CREATED:20260203T193154Z
LAST-MODIFIED:20260203T193154Z
UID:10003535-1771149600-1771174800@discoverftlbeach.com
SUMMARY:The MKT at The Loop
DESCRIPTION:The MKT at Las Olas Oceanside Park takes place every Sunday\, 10 am – 5 pm \nTake in breathtaking views and ocean breezes while perusing an eclectic array of homemade & handmade fare ranging from fresh produce and fruit to global flavors\, made-to-order foods\, and unique items to wear and decorate your home. \nParking: Las Olas Beach Garage\, 200 Las Olas Circle \nLocal Vendor Marketplace Rotates Weekly.\nVisit our Facebook Page for the weekly list
URL:https://discoverftlbeach.com/event/the-mkt-at-the-loop-2/2026-02-15/
LOCATION:Las Olas Oceanside Park\, 3000 E. Las Olas Boulevard\, Fort Lauderdale\, 33316\, United States
CATEGORIES:Art & Culture,Family Friendly,Food & Drink,Outdoors
ATTACH;FMTTYPE=image/jpeg:https://discoverftlbeach.com/wp-content/uploads/2026/02/weekend-loop-mkts.jpg
END:VEVENT
BEGIN:VEVENT
DTSTART;TZID=America/New_York:20260214T113000
DTEND;TZID=America/New_York:20260214T130000
DTSTAMP:20260421T214636
CREATED:20260202T204246Z
LAST-MODIFIED:20260202T204246Z
UID:10003484-1771068600-1771074000@discoverftlbeach.com
SUMMARY:We Still Do: Vow Renewal
DESCRIPTION:Celebrate Love on Fort Lauderdale Beach\nValentine’s Day Vow Renewal Ceremony \nWhether you’re celebrating one month\, six decades\, or the 10th anniversary of marriage equality in Florida\, you’re invited to renew your vows during this free\, heartfelt gathering. \nJoin us on Saturday\, February 14\, at 12:00 PM at Las Olas Oceanside Park for a non-denominational group vow renewal\, officiated by Keith Willard. Thoughtfully simple and deeply meaningful\, this ceremony honors love in all its forms.
URL:https://discoverftlbeach.com/event/we-still-do-vow-renewal/
LOCATION:Las Olas Oceanside Park\, 3000 E. Las Olas Boulevard\, Fort Lauderdale\, 33316\, United States
CATEGORIES:Family Friendly,Outdoors,Valentine's Day
ATTACH;FMTTYPE=image/jpeg:https://discoverftlbeach.com/wp-content/uploads/2026/02/02.14.26-noon.jpg
END:VEVENT
BEGIN:VEVENT
DTSTART;TZID=America/New_York:20260214T090000
DTEND;TZID=America/New_York:20260214T170000
DTSTAMP:20260421T214636
CREATED:20260203T192654Z
LAST-MODIFIED:20260203T192654Z
UID:10003488-1771059600-1771088400@discoverftlbeach.com
SUMMARY:The MKT at The LOOP
DESCRIPTION:The MKT at Las Olas Oceanside Park takes place every Saturday\, 9:00 a.m. – 5:00 p.m.\nYoga on the Lawn with Lisa\, every Saturday at 9:30 a.m.\, November through June \nTake in breathtaking views and ocean breezes while perusing an eclectic array of homemade & handmade fare ranging from fresh produce and fruit to global flavors\, made-to-order foods\, and unique items to wear and decorate your home. \nParking: Las Olas Beach Garage\, 200 Las Olas Circle \nLocal Vendor Marketplace Rotates Weekly | Visit Facebook for more
URL:https://discoverftlbeach.com/event/the-mkt-at-the-loop/2026-02-14/
LOCATION:Las Olas Oceanside Park\, 3000 E. Las Olas Boulevard\, Fort Lauderdale\, 33316\, United States
CATEGORIES:Art & Culture,Family Friendly,Food & Drink,Outdoors,Pet Friendly
ATTACH;FMTTYPE=image/jpeg:https://discoverftlbeach.com/wp-content/uploads/2026/02/Pumpkins-Palm-Trees-1.jpg
END:VEVENT
BEGIN:VEVENT
DTSTART;TZID=America/New_York:20260213T190000
DTEND;TZID=America/New_York:20260213T213000
DTSTAMP:20260421T214636
CREATED:20260129T204120Z
LAST-MODIFIED:20260129T204120Z
UID:10003475-1771009200-1771018200@discoverftlbeach.com
SUMMARY:Friday Night Sound Waves 10yr Anniversary Series: Valerie Tyson
DESCRIPTION:The Valerie Tyson Band brings soul\, swagger\, and full-throttle fun to the Sound Waves stage. Anchored by Valerie’s unmistakable voice and presence\, this dynamic 8-piece ensemble is one of South Florida’s premier variety and party bands—delivering nights that feel as joyful as they are electric. \nWidely recognized as South Florida’s Queen of Soul\, Valerie leads a band of seasoned musical veterans who move effortlessly across classic and modern R&B\, soul\, jazz\, reggae\, classic rock\, and today’s favorites. The result is a show fueled by youthful energy\, tight grooves\, and a shared mission to turn the park into a dance floor. This is music meant to be felt\, not just heard. \nTogether\, Valerie and her band bring decades of collective experience to the stage—wowing audiences with powerhouse vocals\, rich musicianship\, and an undeniable sense of celebration. When the Valerie Tyson Band plays\, the crowd doesn’t just watch—it joins in.
URL:https://discoverftlbeach.com/event/friday-night-sound-waves-10yr-anniversary-series-valerie-tyson/
LOCATION:Las Olas Oceanside Park\, 3000 E. Las Olas Boulevard\, Fort Lauderdale\, 33316\, United States
CATEGORIES:Art & Culture,Family Friendly,Live Music,Outdoors
ATTACH;FMTTYPE=image/jpeg:https://discoverftlbeach.com/wp-content/uploads/2026/01/2.13.26-valerie-tyson.jpg
END:VEVENT
BEGIN:VEVENT
DTSTART;TZID=America/New_York:20260208T100000
DTEND;TZID=America/New_York:20260208T170000
DTSTAMP:20260421T214636
CREATED:20260203T193154Z
LAST-MODIFIED:20260203T193154Z
UID:10003534-1770544800-1770570000@discoverftlbeach.com
SUMMARY:The MKT at The Loop
DESCRIPTION:The MKT at Las Olas Oceanside Park takes place every Sunday\, 10 am – 5 pm \nTake in breathtaking views and ocean breezes while perusing an eclectic array of homemade & handmade fare ranging from fresh produce and fruit to global flavors\, made-to-order foods\, and unique items to wear and decorate your home. \nParking: Las Olas Beach Garage\, 200 Las Olas Circle \nLocal Vendor Marketplace Rotates Weekly.\nVisit our Facebook Page for the weekly list
URL:https://discoverftlbeach.com/event/the-mkt-at-the-loop-2/2026-02-08/
LOCATION:Las Olas Oceanside Park\, 3000 E. Las Olas Boulevard\, Fort Lauderdale\, 33316\, United States
CATEGORIES:Art & Culture,Family Friendly,Food & Drink,Outdoors
ATTACH;FMTTYPE=image/jpeg:https://discoverftlbeach.com/wp-content/uploads/2026/02/weekend-loop-mkts.jpg
END:VEVENT
BEGIN:VEVENT
DTSTART;TZID=America/New_York:20260207T090000
DTEND;TZID=America/New_York:20260207T170000
DTSTAMP:20260421T214636
CREATED:20260203T192654Z
LAST-MODIFIED:20260203T192654Z
UID:10003487-1770454800-1770483600@discoverftlbeach.com
SUMMARY:The MKT at The LOOP
DESCRIPTION:The MKT at Las Olas Oceanside Park takes place every Saturday\, 9:00 a.m. – 5:00 p.m.\nYoga on the Lawn with Lisa\, every Saturday at 9:30 a.m.\, November through June \nTake in breathtaking views and ocean breezes while perusing an eclectic array of homemade & handmade fare ranging from fresh produce and fruit to global flavors\, made-to-order foods\, and unique items to wear and decorate your home. \nParking: Las Olas Beach Garage\, 200 Las Olas Circle \nLocal Vendor Marketplace Rotates Weekly | Visit Facebook for more
URL:https://discoverftlbeach.com/event/the-mkt-at-the-loop/2026-02-07/
LOCATION:Las Olas Oceanside Park\, 3000 E. Las Olas Boulevard\, Fort Lauderdale\, 33316\, United States
CATEGORIES:Art & Culture,Family Friendly,Food & Drink,Outdoors,Pet Friendly
ATTACH;FMTTYPE=image/jpeg:https://discoverftlbeach.com/wp-content/uploads/2026/02/Pumpkins-Palm-Trees-1.jpg
END:VEVENT
BEGIN:VEVENT
DTSTART;TZID=America/New_York:20260206T190000
DTEND;TZID=America/New_York:20260206T213000
DTSTAMP:20260421T214636
CREATED:20260129T195016Z
LAST-MODIFIED:20260129T195016Z
UID:10003474-1770404400-1770413400@discoverftlbeach.com
SUMMARY:Friday Night Sound Waves 10yr Anniversary Series: Sabor Latino
DESCRIPTION:If there is one band woven into the very DNA of Friday Night Sound Waves\, it’s Sabor Latino. From our early “test run” days with the City of Fort Lauderdale Parks & Recreation in 2015 through multiple seasons of the series\, Sabor Latino has delivered nights defined by rhythm\, movement\, and collective joy. \nLed by bandleader Ricardo Rivera\, this powerhouse ensemble brings what they aptly call a Salsa Tsunami—a high-energy mix of classic salsa and Latin jazz that turns the park into a dance floor. Drawing inspiration from legends like Fania All-Stars\, Willie Colón\, Héctor Lavoe\, El Gran Combo\, and more\, Sabor Latino pairs musical precision with an infectious sense of celebration. Whether leaning into full-throttle salsa or easing into Latin jazz grooves\, one thing is always true: everyone dances.
URL:https://discoverftlbeach.com/event/friday-night-sound-waves-10yr-anniversary-series-sabor-latino/
LOCATION:Las Olas Oceanside Park\, 3000 E. Las Olas Boulevard\, Fort Lauderdale\, 33316\, United States
CATEGORIES:Art & Culture,Family Friendly,Live Music,Outdoors
ATTACH;FMTTYPE=image/jpeg:https://discoverftlbeach.com/wp-content/uploads/2026/01/2.6.26-sabor-latino.jpg
END:VEVENT
BEGIN:VEVENT
DTSTART;TZID=America/New_York:20260130T190000
DTEND;TZID=America/New_York:20260130T213000
DTSTAMP:20260421T214636
CREATED:20260129T140718Z
LAST-MODIFIED:20260129T140718Z
UID:10003473-1769799600-1769808600@discoverftlbeach.com
SUMMARY:Friday Night Sound Waves 10yr Anniversary Series: Ginetta's Vendetta
DESCRIPTION:Celebrating ten years in 2026\, Friday Night Sound Waves continues a simple belief: good music brings people together.\nOur anniversary season honors the artists and moments that have shaped the series since day one. \nSound Waves alumni Ginetta’s Vendetta opens the 10-Year Anniversary season with an electrifying night of jazz led by internationally acclaimed trumpeter\, vocalist\, and bandleader Ginetta Vendetta. A true jazz ambassador\, Ginetta brings a fearless\, groove-forward sound rooted in tradition yet alive with personality\, joy\, and unmistakable presence. \nFor this opening night\, Ginetta’s Vendetta features a stellar ensemble: Charlie Arbelaz on saxophone\, Gianni Bianchini on piano\, Alejandro Gonzalez on drums\, and Josh Ewers on bass—musicians who listen\, respond\, and elevate the moment together\, exactly the way Sound Waves nights are meant to unfold.
URL:https://discoverftlbeach.com/event/friday-night-sound-waves-10yr-anniversary-series-ginettas-vendetta/
LOCATION:Las Olas Oceanside Park\, 3000 E. Las Olas Boulevard\, Fort Lauderdale\, 33316\, United States
CATEGORIES:Art & Culture,Family Friendly,Food & Drink,Live Music,Outdoors
ATTACH;FMTTYPE=image/jpeg:https://discoverftlbeach.com/wp-content/uploads/2026/01/03.31.26-ginettas-vendetta.jpg
END:VEVENT
END:VCALENDAR